BEGIN:VCALENDAR
VERSION:2.0
PRODID:-//CMR | PE - ECPv6.2.9//NONSGML v1.0//EN
CALSCALE:GREGORIAN
METHOD:PUBLISH
X-WR-CALNAME:CMR | PE
X-ORIGINAL-URL:https://www.cmrportelizabeth.co.za
X-WR-CALDESC:Events for CMR | PE
REFRESH-INTERVAL;VALUE=DURATION:PT1H
X-Robots-Tag:noindex
X-PUBLISHED-TTL:PT1H
BEGIN:VTIMEZONE
TZID:Africa/Johannesburg
BEGIN:STANDARD
TZOFFSETFROM:+0200
TZOFFSETTO:+0200
TZNAME:SAST
DTSTART:20260101T000000
END:STANDARD
END:VTIMEZONE
BEGIN:VEVENT
DTSTART;VALUE=DATE:20260422
DTEND;VALUE=DATE:20260423
DTSTAMP:20260422T030616
CREATED:20260414T083509Z
LAST-MODIFIED:20260414T083509Z
UID:723-1776816000-1776902399@www.cmrportelizabeth.co.za
SUMMARY:Anger Management Program
DESCRIPTION:This will be the 2nd session for the Anger Management groups consisting of Grade 4 and 5.
URL:https://www.cmrportelizabeth.co.za/event/anger-management-program/
LOCATION:Eastern Cape
ORGANIZER;CN="CMR PE":MAILTO:progmanager2@cmrpe.co.za
END:VEVENT
END:VCALENDAR