BEGIN:VCALENDAR
VERSION:2.0
PRODID:-//CMR | PE - ECPv6.2.9//NONSGML v1.0//EN
CALSCALE:GREGORIAN
METHOD:PUBLISH
X-ORIGINAL-URL:https://www.cmrportelizabeth.co.za
X-WR-CALDESC:Events for CMR | PE
REFRESH-INTERVAL;VALUE=DURATION:PT1H
X-Robots-Tag:noindex
X-PUBLISHED-TTL:PT1H
BEGIN:VTIMEZONE
TZID:Africa/Johannesburg
BEGIN:STANDARD
TZOFFSETFROM:+0200
TZOFFSETTO:+0200
TZNAME:SAST
DTSTART:20210101T000000
END:STANDARD
END:VTIMEZONE
BEGIN:VEVENT
DTSTART;TZID=Africa/Johannesburg:20211101T080000
DTEND;TZID=Africa/Johannesburg:20211231T170000
DTSTAMP:20260421T122826
CREATED:20211119T101507Z
LAST-MODIFIED:20211119T101507Z
UID:435-1635753600-1640970000@www.cmrportelizabeth.co.za
SUMMARY:Christmas Joy 2021
DESCRIPTION:Many of our children will be returning home from alternative care for the Christmas holidays. Many families will struggle to make it special!\n\nYOU CAN HELP BY SPONSORING MEALS FOR A FAMILY OVER THIS FESTIVE SEASON!\nDonations qualify for a S18A Income Tax Deduction Receipt\nFor more information on how to help\nCONTACT: Jackie: PH: 041 484 3554\nEmail: account-cmrpe@webafrica.org.za\nPlease DONATE HERE
URL:https://www.cmrportelizabeth.co.za/event/christmas-joy-2021/
CATEGORIES:Fund Raiser
END:VEVENT
END:VCALENDAR