BEGIN:VCALENDAR
VERSION:2.0
PRODID:-//CMR | PE - ECPv6.2.9//NONSGML v1.0//EN
CALSCALE:GREGORIAN
METHOD:PUBLISH
X-ORIGINAL-URL:https://www.cmrportelizabeth.co.za
X-WR-CALDESC:Events for CMR | PE
REFRESH-INTERVAL;VALUE=DURATION:PT1H
X-Robots-Tag:noindex
X-PUBLISHED-TTL:PT1H
BEGIN:VTIMEZONE
TZID:Africa/Johannesburg
BEGIN:STANDARD
TZOFFSETFROM:+0200
TZOFFSETTO:+0200
TZNAME:SAST
DTSTART:20260101T000000
END:STANDARD
END:VTIMEZONE
BEGIN:VEVENT
DTSTART;VALUE=DATE:20260421
DTEND;VALUE=DATE:20260422
DTSTAMP:20260425T184505
CREATED:20260414T083221Z
LAST-MODIFIED:20260414T083221Z
UID:721-1776729600-1776815999@www.cmrportelizabeth.co.za
SUMMARY:Anti-Bullying Program
DESCRIPTION:This program will be presented to the Grade 3 – 5 students in various classroom settings. Helping our students cope with bullying and not to bully other students. This workshop also teaches our students what the consequences are of bullying on the students around them.
URL:https://www.cmrportelizabeth.co.za/event/anti-bullying-program/
LOCATION:Eastern Cape
END:VEVENT
BEGIN:VEVENT
DTSTART;VALUE=DATE:20260422
DTEND;VALUE=DATE:20260423
DTSTAMP:20260425T184505
CREATED:20260414T083509Z
LAST-MODIFIED:20260414T083509Z
UID:723-1776816000-1776902399@www.cmrportelizabeth.co.za
SUMMARY:Anger Management Program
DESCRIPTION:This will be the 2nd session for the Anger Management groups consisting of Grade 4 and 5.
URL:https://www.cmrportelizabeth.co.za/event/anger-management-program/
LOCATION:Eastern Cape
ORGANIZER;CN="CMR PE":MAILTO:progmanager2@cmrpe.co.za
END:VEVENT
BEGIN:VEVENT
DTSTART;VALUE=DATE:20260423
DTEND;VALUE=DATE:20260424
DTSTAMP:20260425T184505
CREATED:20260414T083857Z
LAST-MODIFIED:20260414T083857Z
UID:725-1776902400-1776988799@www.cmrportelizabeth.co.za
SUMMARY:Anti - Bullying Program
DESCRIPTION:This program will be presented to Grade 3 – 5 students. Teaching students how to cope\, consequences of bullying and reasons why not to bully. This program will be presented in the Northern area schools.
URL:https://www.cmrportelizabeth.co.za/event/anti-bullying-program-2/
LOCATION:Eastern Cape
ORGANIZER;CN="CMR PE":MAILTO:progmanager2@cmrpe.co.za
END:VEVENT
BEGIN:VEVENT
DTSTART;VALUE=DATE:20260423
DTEND;VALUE=DATE:20260424
DTSTAMP:20260425T184505
CREATED:20260414T084323Z
LAST-MODIFIED:20260414T084323Z
UID:727-1776902400-1776988799@www.cmrportelizabeth.co.za
SUMMARY:GBVF Woman's Support Group
DESCRIPTION:These support groups are aimed at creating a safe space for those touched by GBVF. These support groups meet on a regular basis and are held in various area’s
URL:https://www.cmrportelizabeth.co.za/event/gbvf-womans-support-group/
LOCATION:Jacksonvill\, Gqeberha\, Eastern Cape\, 6001\, South Africa
ORGANIZER;CN="CMR PE":MAILTO:progmanager2@cmrpe.co.za
END:VEVENT
BEGIN:VEVENT
DTSTART;VALUE=DATE:20260424
DTEND;VALUE=DATE:20260425
DTSTAMP:20260425T184505
CREATED:20260414T084533Z
LAST-MODIFIED:20260414T084533Z
UID:730-1776988800-1777075199@www.cmrportelizabeth.co.za
SUMMARY:GBVF Woman's Support Group
DESCRIPTION:These support groups are aimed at creating a safe space for those touched by GBVF. These support groups meet on a regular basis and are held in various area’s
URL:https://www.cmrportelizabeth.co.za/event/gbvf-womans-support-group-2/
LOCATION:Extension 32\, Gqeberha\, Eastern Cape\, 6001
ORGANIZER;CN="CMR PE":MAILTO:progmanager2@cmrpe.co.za
END:VEVENT
BEGIN:VEVENT
DTSTART;VALUE=DATE:20260429
DTEND;VALUE=DATE:20260430
DTSTAMP:20260425T184505
CREATED:20260414T084800Z
LAST-MODIFIED:20260414T084921Z
UID:733-1777420800-1777507199@www.cmrportelizabeth.co.za
SUMMARY:Anger Management Program
DESCRIPTION:Session 3 for our Grade 4 and 5 students for anger management.
URL:https://www.cmrportelizabeth.co.za/event/anger-management-program-2/
LOCATION:Eastern Cape
ORGANIZER;CN="CMR PE":MAILTO:progmanager2@cmrpe.co.za
END:VEVENT
BEGIN:VEVENT
DTSTART;TZID=Africa/Johannesburg:20260430T080000
DTEND;TZID=Africa/Johannesburg:20260430T170000
DTSTAMP:20260425T184505
CREATED:20260414T085652Z
LAST-MODIFIED:20260414T085652Z
UID:735-1777536000-1777568400@www.cmrportelizabeth.co.za
SUMMARY:GBVF Woman's Support Group
DESCRIPTION:These support groups are aimed at creating a safe space for those touched by GBVF. These support groups meet on a regular basis and are held in various area’s
URL:https://www.cmrportelizabeth.co.za/event/gbvf-womans-support-group-3/
LOCATION:Algoa Park\, Gqeberha\, Eastern Cape\, 6001\, South Africa
ORGANIZER;CN="CMR PE":MAILTO:progmanager2@cmrpe.co.za
END:VEVENT
END:VCALENDAR